BEGIN:VCALENDAR
VERSION:2.0
PRODID:icalendar-ruby
CALSCALE:GREGORIAN
METHOD:PUBLISH
BEGIN:VEVENT
DTSTAMP:20260423T130001Z
UID:ba69a758-32b8-4432-a37b-f3cc3be1ef28
DTSTART;VALUE=DATE:20250726
DTEND;VALUE=DATE:20250726
DESCRIPTION:St. Peters BMX
LOCATION:100 Brown Rd  St. Peters MO 63376 USA
SUMMARY:Warnicke Double
URL:/site/bmx_races/583134
END:VEVENT
END:VCALENDAR
