BEGIN:VCALENDAR
VERSION:2.0
PRODID:icalendar-ruby
CALSCALE:GREGORIAN
METHOD:PUBLISH
BEGIN:VEVENT
DTSTAMP:20260419T140356Z
UID:167ef34c-cd25-46ef-8550-3a5e6686a456
DTSTART;VALUE=DATE:20250419
DTEND;VALUE=DATE:20250419
DESCRIPTION:Marysville BMX
LOCATION:618 N Main St  Marysville OH 43040 USA
SUMMARY:Warnicke Double
URL:/site/bmx_races/583148
END:VEVENT
END:VCALENDAR
