BEGIN:VCALENDAR
VERSION:2.0
PRODID:icalendar-ruby
CALSCALE:GREGORIAN
METHOD:PUBLISH
BEGIN:VEVENT
DTSTAMP:20260425T230117Z
UID:c234603c-fea2-42e5-ade6-4132912ba6a1
DTSTART;VALUE=DATE:20250628
DTEND;VALUE=DATE:20250628
DESCRIPTION:Capital City Family BMX
LOCATION:2809 N East St  Lansing MI 48906 USA
SUMMARY:Local Race Single
URL:/site/bmx_races/583565
END:VEVENT
END:VCALENDAR
