BEGIN:VCALENDAR
VERSION:2.0
PRODID:icalendar-ruby
CALSCALE:GREGORIAN
METHOD:PUBLISH
BEGIN:VEVENT
DTSTAMP:20260420T192821Z
UID:7b1b356a-466e-48d7-8658-a9a8eb83749e
DTSTART;VALUE=DATE:20251105
DTEND;VALUE=DATE:20251105
DESCRIPTION:Yuma BMX
LOCATION:3067 S Pacific Ave  Yuma AZ 85364 USA
SUMMARY:Local Race Single
URL:/site/bmx_races/583710
END:VEVENT
END:VCALENDAR
