BEGIN:VCALENDAR
VERSION:2.0
PRODID:icalendar-ruby
CALSCALE:GREGORIAN
METHOD:PUBLISH
BEGIN:VEVENT
DTSTAMP:20260421T105904Z
UID:1b4d201c-636a-46c3-b21a-e139c7054427
DTSTART;VALUE=DATE:20250207
DTEND;VALUE=DATE:20250207
DESCRIPTION:Yuma BMX
LOCATION:3067 S Pacific Ave  Yuma AZ 85364 USA
SUMMARY:Race for Life Single
URL:/site/bmx_races/583717
END:VEVENT
END:VCALENDAR
