BEGIN:VCALENDAR
VERSION:2.0
PRODID:icalendar-ruby
CALSCALE:GREGORIAN
METHOD:PUBLISH
BEGIN:VEVENT
DTSTAMP:20260420T225046Z
UID:a9997e19-4498-46b2-ab68-cd8e616746ba
DTSTART;VALUE=DATE:20251004
DTEND;VALUE=DATE:20251004
DESCRIPTION:VMP BMX
LOCATION:8018 Boydton Plank Road  N Dinwiddie VA 23803 USA
SUMMARY:Local Race Single
URL:/site/bmx_races/583762
END:VEVENT
END:VCALENDAR
