BEGIN:VCALENDAR
VERSION:2.0
PRODID:icalendar-ruby
CALSCALE:GREGORIAN
METHOD:PUBLISH
BEGIN:VEVENT
DTSTAMP:20260420T192821Z
UID:28312305-d0e3-4774-85d7-325f85110306
DTSTART;VALUE=DATE:20251101
DTEND;VALUE=DATE:20251101
DESCRIPTION:VMP BMX
LOCATION:8018 Boydton Plank Road  N Dinwiddie VA 23803 USA
SUMMARY:Local Race Single
URL:/site/bmx_races/583766
END:VEVENT
END:VCALENDAR
