BEGIN:VCALENDAR
VERSION:2.0
PRODID:icalendar-ruby
CALSCALE:GREGORIAN
METHOD:PUBLISH
BEGIN:VEVENT
DTSTAMP:20260421T042304Z
UID:b855267d-385a-4977-8a24-4e9c384d87a1
DTSTART;VALUE=DATE:20250628
DTEND;VALUE=DATE:20250628
DESCRIPTION:Spokes BMX
LOCATION: 2550 W Bennett  Springfield MO 65807 USA
SUMMARY:State Race Double
URL:/site/bmx_races/583798
END:VEVENT
END:VCALENDAR
