BEGIN:VCALENDAR
VERSION:2.0
PRODID:icalendar-ruby
CALSCALE:GREGORIAN
METHOD:PUBLISH
BEGIN:VEVENT
DTSTAMP:20260424T073924Z
UID:49713a81-9bc0-4136-84ef-e232851fa448
DTSTART;VALUE=DATE:20250605
DTEND;VALUE=DATE:20250605
DESCRIPTION:Seatac BMX
LOCATION:1855 S 136th St  Sea Tac WA 98168 USA
SUMMARY:Local Race Single
URL:/site/bmx_races/583861
END:VEVENT
END:VCALENDAR
