BEGIN:VCALENDAR
VERSION:2.0
PRODID:icalendar-ruby
CALSCALE:GREGORIAN
METHOD:PUBLISH
BEGIN:VEVENT
DTSTAMP:20260422T172842Z
UID:16d91192-a663-4111-81b5-6729c5546643
DTSTART;VALUE=DATE:20250326
DTEND;VALUE=DATE:20250326
DESCRIPTION:Nellis BMX
LOCATION:4949 E Cheyenne Ave  Las Vegas NV 89115 USA
SUMMARY:Warnicke Single
URL:/site/bmx_races/583942
END:VEVENT
END:VCALENDAR
