BEGIN:VCALENDAR
VERSION:2.0
PRODID:icalendar-ruby
CALSCALE:GREGORIAN
METHOD:PUBLISH
BEGIN:VEVENT
DTSTAMP:20260425T235305Z
UID:cb5064fa-aec8-46bc-b54f-a323e61837ab
DTSTART;VALUE=DATE:20250501
DTEND;VALUE=DATE:20250501
DESCRIPTION:Burlington BMX
LOCATION:1450 Graham Street  Burlington NC 27217 USA
SUMMARY:Practice
URL:/site/bmx_races/584054
END:VEVENT
END:VCALENDAR
