BEGIN:VCALENDAR
VERSION:2.0
PRODID:icalendar-ruby
CALSCALE:GREGORIAN
METHOD:PUBLISH
BEGIN:VEVENT
DTSTAMP:20260425T160131Z
UID:8be695af-5b88-47b3-bd84-bebf29ee1a66
DTSTART;VALUE=DATE:20251023
DTEND;VALUE=DATE:20251023
DESCRIPTION:Burlington BMX
LOCATION:1450 Graham Street  Burlington NC 27217 USA
SUMMARY:Practice
URL:/site/bmx_races/584079
END:VEVENT
END:VCALENDAR
