BEGIN:VCALENDAR
VERSION:2.0
PRODID:icalendar-ruby
CALSCALE:GREGORIAN
METHOD:PUBLISH
BEGIN:VEVENT
DTSTAMP:20260425T172559Z
UID:7a8242e9-3be7-47d7-8f52-e59b9a6fd161
DTSTART;VALUE=DATE:20250926
DTEND;VALUE=DATE:20250926
DESCRIPTION:Burlington BMX
LOCATION:1450 Graham Street  Burlington NC 27217 USA
SUMMARY:Local Race Single
URL:/site/bmx_races/584113
END:VEVENT
END:VCALENDAR
