BEGIN:VCALENDAR
VERSION:2.0
PRODID:icalendar-ruby
CALSCALE:GREGORIAN
METHOD:PUBLISH
BEGIN:VEVENT
DTSTAMP:20260424T231519Z
UID:f393e8ce-2a68-4190-8c4e-0af5bce162ca
DTSTART;VALUE=DATE:20250801
DTEND;VALUE=DATE:20250801
DESCRIPTION:Johnstown BMX
LOCATION:260 Playground Drive  Johnstown PA 15904 USA
SUMMARY:Race for Life Single
URL:/site/bmx_races/584128
END:VEVENT
END:VCALENDAR
