BEGIN:VCALENDAR
VERSION:2.0
PRODID:icalendar-ruby
CALSCALE:GREGORIAN
METHOD:PUBLISH
BEGIN:VEVENT
DTSTAMP:20260421T022042Z
UID:b40485ef-ac61-4931-b0dd-5ae4ac6b9d4b
DTSTART;VALUE=DATE:20250717
DTEND;VALUE=DATE:20250717
DESCRIPTION:Red River BMX
LOCATION:1490 S. 42nd Street  Grand Forks ND 58201 USA
SUMMARY:Local Race Single
URL:/site/bmx_races/584150
END:VEVENT
END:VCALENDAR
