BEGIN:VCALENDAR
VERSION:2.0
PRODID:icalendar-ruby
CALSCALE:GREGORIAN
METHOD:PUBLISH
BEGIN:VEVENT
DTSTAMP:20260425T140224Z
UID:63b2060f-4c2f-4d0a-8e32-4e7cf4fb9775
DTSTART;VALUE=DATE:20250115
DTEND;VALUE=DATE:20250115
DESCRIPTION:Hanford BMX
LOCATION:501 S Brown St  Hanford CA 93230 USA
SUMMARY:Local Race Single
URL:/site/bmx_races/584393
END:VEVENT
END:VCALENDAR
