BEGIN:VCALENDAR
VERSION:2.0
PRODID:icalendar-ruby
CALSCALE:GREGORIAN
METHOD:PUBLISH
BEGIN:VEVENT
DTSTAMP:20260425T035502Z
UID:ac61db9b-9448-47f4-a527-203be0874bcf
DTSTART;VALUE=DATE:20250702
DTEND;VALUE=DATE:20250702
DESCRIPTION:Hanford BMX
LOCATION:501 S Brown St  Hanford CA 93230 USA
SUMMARY:Local Race Single
URL:/site/bmx_races/584417
END:VEVENT
END:VCALENDAR
