BEGIN:VCALENDAR
VERSION:2.0
PRODID:icalendar-ruby
CALSCALE:GREGORIAN
METHOD:PUBLISH
BEGIN:VEVENT
DTSTAMP:20260424T132854Z
UID:73968f7a-16f8-405c-8076-369d338e99a9
DTSTART;VALUE=DATE:20250526
DTEND;VALUE=DATE:20250526
DESCRIPTION:Chandler BMX
LOCATION:298 S Mc Queen Rd  Chandler AZ 85225 USA
SUMMARY:Local Race Single
URL:/site/bmx_races/584723
END:VEVENT
END:VCALENDAR
