BEGIN:VCALENDAR
VERSION:2.0
PRODID:icalendar-ruby
CALSCALE:GREGORIAN
METHOD:PUBLISH
BEGIN:VEVENT
DTSTAMP:20260425T104125Z
UID:34fb485b-34a3-4070-be5b-4ef01e86df23
DTSTART;VALUE=DATE:20250602
DTEND;VALUE=DATE:20250602
DESCRIPTION:Chandler BMX
LOCATION:298 S Mc Queen Rd  Chandler AZ 85225 USA
SUMMARY:BMX Registration Day Single
URL:/site/bmx_races/584949
END:VEVENT
END:VCALENDAR
