BEGIN:VCALENDAR
VERSION:2.0
PRODID:icalendar-ruby
CALSCALE:GREGORIAN
METHOD:PUBLISH
BEGIN:VEVENT
DTSTAMP:20260423T103744Z
UID:fd26071c-4c7a-4fde-b4d9-807f133f40dd
DTSTART;VALUE=DATE:20250415
DTEND;VALUE=DATE:20250415
DESCRIPTION:Okeeheelee BMX
LOCATION:8145 Forest Hill Blvd  West Palm Beach FL 33413 USA
SUMMARY:Local Race Single
URL:/site/bmx_races/584984
END:VEVENT
END:VCALENDAR
