BEGIN:VCALENDAR
VERSION:2.0
PRODID:icalendar-ruby
CALSCALE:GREGORIAN
METHOD:PUBLISH
BEGIN:VEVENT
DTSTAMP:20260424T182703Z
UID:b41c0ca8-b499-48dc-9f3a-755cce55f057
DTSTART;VALUE=DATE:20251114
DTEND;VALUE=DATE:20251114
DESCRIPTION:Bowie BMX
LOCATION:801 South Mill Street  Bowie TX 76230 USA
SUMMARY:Local Race Single
URL:/site/bmx_races/585486
END:VEVENT
END:VCALENDAR
