BEGIN:VCALENDAR
VERSION:2.0
PRODID:icalendar-ruby
CALSCALE:GREGORIAN
METHOD:PUBLISH
BEGIN:VEVENT
DTSTAMP:20260424T165231Z
UID:aea5b75d-4d23-48cc-b7fd-8637d5fea987
DTSTART;VALUE=DATE:20251212
DTEND;VALUE=DATE:20251212
DESCRIPTION:Bowie BMX
LOCATION:801 South Mill Street  Bowie TX 76230 USA
SUMMARY:Local Race Single
URL:/site/bmx_races/585490
END:VEVENT
END:VCALENDAR
