BEGIN:VCALENDAR
VERSION:2.0
PRODID:icalendar-ruby
CALSCALE:GREGORIAN
METHOD:PUBLISH
BEGIN:VEVENT
DTSTAMP:20260423T010353Z
UID:15a8fec1-c49a-4beb-b6a3-cd5ddd84faf5
DTSTART;VALUE=DATE:20251116
DTEND;VALUE=DATE:20251116
DESCRIPTION:Cowtown BMX
LOCATION:447 Haltom Rd  Ft. Worth TX 76117 USA
SUMMARY:Local Race Single
URL:/site/bmx_races/585628
END:VEVENT
END:VCALENDAR
