BEGIN:VCALENDAR
VERSION:2.0
PRODID:icalendar-ruby
CALSCALE:GREGORIAN
METHOD:PUBLISH
BEGIN:VEVENT
DTSTAMP:20260424T030331Z
UID:95639d78-bfa3-41c6-a71e-186b88e1a18b
DTSTART;VALUE=DATE:20250802
DTEND;VALUE=DATE:20250802
DESCRIPTION:Emery Park BMX
LOCATION:2339 E Mac Arthur Rd  Wichita KS 67216 USA
SUMMARY:Race for Life Double
URL:/site/bmx_races/585819
END:VEVENT
END:VCALENDAR
