BEGIN:VCALENDAR
VERSION:2.0
PRODID:icalendar-ruby
CALSCALE:GREGORIAN
METHOD:PUBLISH
BEGIN:VEVENT
DTSTAMP:20260424T014208Z
UID:01af410b-5b76-479a-8a30-48b97c46645f
DTSTART;VALUE=DATE:20251026
DTEND;VALUE=DATE:20251026
DESCRIPTION:Emery Park BMX
LOCATION:2339 E Mac Arthur Rd  Wichita KS 67216 USA
SUMMARY:Warnicke Double
URL:/site/bmx_races/585821
END:VEVENT
END:VCALENDAR
