BEGIN:VCALENDAR
VERSION:2.0
PRODID:icalendar-ruby
CALSCALE:GREGORIAN
METHOD:PUBLISH
BEGIN:VEVENT
DTSTAMP:20260425T035433Z
UID:da0c8bee-58d2-4939-961a-9ba740c5459c
DTSTART;VALUE=DATE:20241201
DTEND;VALUE=DATE:20241201
DESCRIPTION:Cape Cod BMX
LOCATION:65 Quaker Meetinghouse Rd   Sandwich MA 02563 USA
SUMMARY:Local Race Single
URL:/site/bmx_races/586067
END:VEVENT
END:VCALENDAR
