BEGIN:VCALENDAR
VERSION:2.0
PRODID:icalendar-ruby
CALSCALE:GREGORIAN
METHOD:PUBLISH
BEGIN:VEVENT
DTSTAMP:20260423T202941Z
UID:6c60f643-4da5-4da1-9a5e-6b7d7836bf49
DTSTART;VALUE=DATE:20130703
DTEND;VALUE=DATE:20130703
DESCRIPTION:Far North BMX
LOCATION:Kiana St & 19th Ave  Fairbanks AK 99709 USA
SUMMARY:Local Race Single
URL:/site/bmx_races/58611
END:VEVENT
END:VCALENDAR
