BEGIN:VCALENDAR
VERSION:2.0
PRODID:icalendar-ruby
CALSCALE:GREGORIAN
METHOD:PUBLISH
BEGIN:VEVENT
DTSTAMP:20260420T211059Z
UID:d5626288-3087-43f6-8146-d5deb8c593a2
DTSTART;VALUE=DATE:20251104
DTEND;VALUE=DATE:20251104
DESCRIPTION:Spartanburg BMX
LOCATION:1160 Old Furnace Rd  Boiling Springs SC 29316 USA
SUMMARY:Practice
URL:/site/bmx_races/586205
END:VEVENT
END:VCALENDAR
