BEGIN:VCALENDAR
VERSION:2.0
PRODID:icalendar-ruby
CALSCALE:GREGORIAN
METHOD:PUBLISH
BEGIN:VEVENT
DTSTAMP:20260420T040057Z
UID:46b279b8-9d83-412a-8ed9-f2d03989b3f0
DTSTART;VALUE=DATE:20250708
DTEND;VALUE=DATE:20250708
DESCRIPTION:Southern Maryland BMX
LOCATION:26600 Budds Creek Rd  Mechanicsville MD 20659 USA
SUMMARY:Local Race Single
URL:/site/bmx_races/586254
END:VEVENT
END:VCALENDAR
