BEGIN:VCALENDAR
VERSION:2.0
PRODID:icalendar-ruby
CALSCALE:GREGORIAN
METHOD:PUBLISH
BEGIN:VEVENT
DTSTAMP:20260424T220010Z
UID:696a6e00-35b3-49ca-81aa-d5caab68e119
DTSTART;VALUE=DATE:20250918
DTEND;VALUE=DATE:20250918
DESCRIPTION:Winchester BMX
LOCATION:1001 E. Cork Street  Winchester VA 22601 USA
SUMMARY:Practice
URL:/site/bmx_races/586335
END:VEVENT
END:VCALENDAR
