BEGIN:VCALENDAR
VERSION:2.0
PRODID:icalendar-ruby
CALSCALE:GREGORIAN
METHOD:PUBLISH
BEGIN:VEVENT
DTSTAMP:20260425T005205Z
UID:8e198290-c96e-4e6a-80af-2f1e0b8aa6d6
DTSTART;VALUE=DATE:20250726
DTEND;VALUE=DATE:20250726
DESCRIPTION:Winchester BMX
LOCATION:1001 E. Cork Street  Winchester VA 22601 USA
SUMMARY:Local Race Single
URL:/site/bmx_races/586356
END:VEVENT
END:VCALENDAR
