BEGIN:VCALENDAR
VERSION:2.0
PRODID:icalendar-ruby
CALSCALE:GREGORIAN
METHOD:PUBLISH
BEGIN:VEVENT
DTSTAMP:20260420T055001Z
UID:8ac7b6fd-f3fd-43cd-9bd9-c55277d55d3e
DTSTART;VALUE=DATE:20250621
DTEND;VALUE=DATE:20250621
DESCRIPTION:Southern Maryland BMX
LOCATION:26600 Budds Creek Rd  Mechanicsville MD 20659 USA
SUMMARY:State Race Triple
URL:/site/bmx_races/586408
END:VEVENT
END:VCALENDAR
