BEGIN:VCALENDAR
VERSION:2.0
PRODID:icalendar-ruby
CALSCALE:GREGORIAN
METHOD:PUBLISH
BEGIN:VEVENT
DTSTAMP:20260420T203056Z
UID:88bfa8c7-c0a3-434b-901e-2ae44aa88a6c
DTSTART;VALUE=DATE:20250104
DTEND;VALUE=DATE:20250104
DESCRIPTION:Hardesty National BMX Stadium
LOCATION:490 N Lansing Ave  Tulsa OK 74120 USA
SUMMARY:Local Race Single
URL:/site/bmx_races/587298
END:VEVENT
END:VCALENDAR
