BEGIN:VCALENDAR
VERSION:2.0
PRODID:icalendar-ruby
CALSCALE:GREGORIAN
METHOD:PUBLISH
BEGIN:VEVENT
DTSTAMP:20260420T112225Z
UID:8b8eb8c7-7bdd-48e7-9223-c02e0e718038
DTSTART;VALUE=DATE:20250831
DTEND;VALUE=DATE:20250831
DESCRIPTION:Spreckels Park BMX
LOCATION:941 Spreckels Ave  Manteca CA 95336 USA
SUMMARY:Local Race Single
URL:/site/bmx_races/587459
END:VEVENT
END:VCALENDAR
