BEGIN:VCALENDAR
VERSION:2.0
PRODID:icalendar-ruby
CALSCALE:GREGORIAN
METHOD:PUBLISH
BEGIN:VEVENT
DTSTAMP:20260420T203220Z
UID:c60b4f51-744a-4d83-b7a0-9dff6886813e
DTSTART;VALUE=DATE:20250111
DTEND;VALUE=DATE:20250111
DESCRIPTION:Hardesty National BMX Stadium
LOCATION:490 N Lansing Ave  Tulsa OK 74120 USA
SUMMARY:Local Race Single
URL:/site/bmx_races/587653
END:VEVENT
END:VCALENDAR
