BEGIN:VCALENDAR
VERSION:2.0
PRODID:icalendar-ruby
CALSCALE:GREGORIAN
METHOD:PUBLISH
BEGIN:VEVENT
DTSTAMP:20260420T203046Z
UID:7e66c524-0ea8-42b0-9ab3-27fd5a35f22b
DTSTART;VALUE=DATE:20250113
DTEND;VALUE=DATE:20250113
DESCRIPTION:Hardesty National BMX Stadium
LOCATION:490 N Lansing Ave  Tulsa OK 74120 USA
SUMMARY:Practice
URL:/site/bmx_races/587666
END:VEVENT
END:VCALENDAR
