BEGIN:VCALENDAR
VERSION:2.0
PRODID:icalendar-ruby
CALSCALE:GREGORIAN
METHOD:PUBLISH
BEGIN:VEVENT
DTSTAMP:20260421T182516Z
UID:32b91eb8-04d4-4dad-9dcf-ad0878e4562d
DTSTART;VALUE=DATE:20250130
DTEND;VALUE=DATE:20250130
DESCRIPTION:High Springs BMX
LOCATION:  High Springs FL 32028 USA
SUMMARY:Local Race Single
URL:/site/bmx_races/587944
END:VEVENT
END:VCALENDAR
