BEGIN:VCALENDAR
VERSION:2.0
PRODID:icalendar-ruby
CALSCALE:GREGORIAN
METHOD:PUBLISH
BEGIN:VEVENT
DTSTAMP:20260421T054341Z
UID:f744fd0d-943c-4214-84d7-f54bb0e38a98
DTSTART;VALUE=DATE:20250731
DTEND;VALUE=DATE:20250731
DESCRIPTION:Falcon BMX
LOCATION:Falcon Field 200 Westfield Road Meriden CT 06450 USA
SUMMARY:Local Race Single
URL:/site/bmx_races/588152
END:VEVENT
END:VCALENDAR
