BEGIN:VCALENDAR
VERSION:2.0
PRODID:icalendar-ruby
CALSCALE:GREGORIAN
METHOD:PUBLISH
BEGIN:VEVENT
DTSTAMP:20260421T003913Z
UID:3c7d7fa0-39be-4862-80e5-c5f04ad50e86
DTSTART;VALUE=DATE:20251018
DTEND;VALUE=DATE:20251018
DESCRIPTION:Falcon BMX
LOCATION:Falcon Field 200 Westfield Road Meriden CT 06450 USA
SUMMARY:Local Race Single
URL:/site/bmx_races/588166
END:VEVENT
END:VCALENDAR
