BEGIN:VCALENDAR
VERSION:2.0
PRODID:icalendar-ruby
CALSCALE:GREGORIAN
METHOD:PUBLISH
BEGIN:VEVENT
DTSTAMP:20260424T120334Z
UID:ed3591cc-f30d-42ef-9c49-6428e317b946
DTSTART;VALUE=DATE:20250317
DTEND;VALUE=DATE:20250317
DESCRIPTION:Emery Park BMX
LOCATION:2339 E Mac Arthur Rd  Wichita KS 67216 USA
SUMMARY:Practice
URL:/site/bmx_races/588606
END:VEVENT
END:VCALENDAR
