BEGIN:VCALENDAR
VERSION:2.0
PRODID:icalendar-ruby
CALSCALE:GREGORIAN
METHOD:PUBLISH
BEGIN:VEVENT
DTSTAMP:20260424T090903Z
UID:d4511676-c929-4cf3-abd8-911a55b67df2
DTSTART;VALUE=DATE:20250402
DTEND;VALUE=DATE:20250402
DESCRIPTION:Emery Park BMX
LOCATION:2339 E Mac Arthur Rd  Wichita KS 67216 USA
SUMMARY:Local Race Single
URL:/site/bmx_races/588611
END:VEVENT
END:VCALENDAR
