BEGIN:VCALENDAR
VERSION:2.0
PRODID:icalendar-ruby
CALSCALE:GREGORIAN
METHOD:PUBLISH
BEGIN:VEVENT
DTSTAMP:20260424T001056Z
UID:df557c4a-bea6-45d5-b300-6144bcc0ac9f
DTSTART;VALUE=DATE:20251103
DTEND;VALUE=DATE:20251103
DESCRIPTION:Emery Park BMX
LOCATION:2339 E Mac Arthur Rd  Wichita KS 67216 USA
SUMMARY:Practice
URL:/site/bmx_races/588674
END:VEVENT
END:VCALENDAR
