BEGIN:VCALENDAR
VERSION:2.0
PRODID:icalendar-ruby
CALSCALE:GREGORIAN
METHOD:PUBLISH
BEGIN:VEVENT
DTSTAMP:20260424T001043Z
UID:6d44b34b-46ff-4f15-9dda-7411ba5f3bbf
DTSTART;VALUE=DATE:20251117
DTEND;VALUE=DATE:20251117
DESCRIPTION:Emery Park BMX
LOCATION:2339 E Mac Arthur Rd  Wichita KS 67216 USA
SUMMARY:Practice
URL:/site/bmx_races/588679
END:VEVENT
END:VCALENDAR
