BEGIN:VCALENDAR
VERSION:2.0
PRODID:icalendar-ruby
CALSCALE:GREGORIAN
METHOD:PUBLISH
BEGIN:VEVENT
DTSTAMP:20260420T211217Z
UID:8a353d17-b08d-4d2c-b999-6a2ffbe35acf
DTSTART;VALUE=DATE:20251019
DTEND;VALUE=DATE:20251019
DESCRIPTION:Red River BMX
LOCATION:1490 S. 42nd Street  Grand Forks ND 58201 USA
SUMMARY:Local Race Single
URL:/site/bmx_races/589299
END:VEVENT
END:VCALENDAR
