BEGIN:VCALENDAR
VERSION:2.0
PRODID:icalendar-ruby
CALSCALE:GREGORIAN
METHOD:PUBLISH
BEGIN:VEVENT
DTSTAMP:20260425T154735Z
UID:e906d227-8305-4b58-ac1f-6f772c380d6b
DTSTART;VALUE=DATE:20250713
DTEND;VALUE=DATE:20250713
DESCRIPTION:Moses Lake BMX
LOCATION:610 Yakima Ave  Moses Lake WA 98837 USA
SUMMARY:Local Race Single
URL:/site/bmx_races/589580
END:VEVENT
END:VCALENDAR
