BEGIN:VCALENDAR
VERSION:2.0
PRODID:icalendar-ruby
CALSCALE:GREGORIAN
METHOD:PUBLISH
BEGIN:VEVENT
DTSTAMP:20260425T140118Z
UID:bee13513-d460-48d8-a311-b79fc72feb27
DTSTART;VALUE=DATE:20250805
DTEND;VALUE=DATE:20250805
DESCRIPTION:Moses Lake BMX
LOCATION:610 Yakima Ave  Moses Lake WA 98837 USA
SUMMARY:Local Race Single
URL:/site/bmx_races/589584
END:VEVENT
END:VCALENDAR
