BEGIN:VCALENDAR
VERSION:2.0
PRODID:icalendar-ruby
CALSCALE:GREGORIAN
METHOD:PUBLISH
BEGIN:VEVENT
DTSTAMP:20260425T105747Z
UID:7c49b6b7-d691-4f65-80a9-555548816967
DTSTART;VALUE=DATE:20251010
DTEND;VALUE=DATE:20251010
DESCRIPTION:Moses Lake BMX
LOCATION:610 Yakima Ave  Moses Lake WA 98837 USA
SUMMARY:Local Race Single
URL:/site/bmx_races/589599
END:VEVENT
END:VCALENDAR
