BEGIN:VCALENDAR
VERSION:2.0
PRODID:icalendar-ruby
CALSCALE:GREGORIAN
METHOD:PUBLISH
BEGIN:VEVENT
DTSTAMP:20260421T220213Z
UID:f028c0df-9da0-498b-9807-27b771901f68
DTSTART;VALUE=DATE:20250523
DTEND;VALUE=DATE:20250523
DESCRIPTION:Kamloops BMX
LOCATION:200  1550 Ord Rd   Kamloops BC V2B1N3 CAN
SUMMARY:Race for Life Double
URL:/site/bmx_races/590018
END:VEVENT
END:VCALENDAR
