BEGIN:VCALENDAR
VERSION:2.0
PRODID:icalendar-ruby
CALSCALE:GREGORIAN
METHOD:PUBLISH
BEGIN:VEVENT
DTSTAMP:20260423T230054Z
UID:9d7564ad-0518-42e4-ae42-03cb4e73dea6
DTSTART;VALUE=DATE:20250116
DTEND;VALUE=DATE:20250116
DESCRIPTION:ORL BMX
LOCATION:4801 W Colonial Dr  Orlando FL 32808 USA
SUMMARY:Local Race Single
URL:/site/bmx_races/590480
END:VEVENT
END:VCALENDAR
