BEGIN:VCALENDAR
VERSION:2.0
PRODID:icalendar-ruby
CALSCALE:GREGORIAN
METHOD:PUBLISH
BEGIN:VEVENT
DTSTAMP:20260423T065456Z
UID:9bdee95c-053d-4aa9-ad05-2cd9017e09fe
DTSTART;VALUE=DATE:20250216
DTEND;VALUE=DATE:20250216
DESCRIPTION:Black Mountain BMX
LOCATION:24024 N 11th St  Phoenix AZ 85024 USA
SUMMARY:State Race Double
URL:/site/bmx_races/590570
END:VEVENT
END:VCALENDAR
